BEGIN:VCALENDAR
VERSION:2.0
PRODID:spatie/icalendar-generator
DESCRIPTION:Events from Mason&amp;amp\;Dixon Kennel Club
X-WR-CALDESC:Events from Mason&amp;amp\;Dixon Kennel Club
REFRESH-INTERVAL;VALUE=DURATION:PT1440M
X-PUBLISHED-TTL:PT1440M
BEGIN:VTIMEZONE
TZID:America/New_York
BEGIN:STANDARD
DTSTART:20241103T020000Z
TZOFFSETFROM:-0400
TZOFFSETTO:-0500
END:STANDARD
BEGIN:DAYLIGHT
DTSTART:20250309T020000Z
TZOFFSETFROM:-0500
TZOFFSETTO:-0400
END:DAYLIGHT
END:VTIMEZONE
BEGIN:VTIMEZONE
TZID:UTC
BEGIN:STANDARD
DTSTART:20250726T165140Z
TZOFFSETFROM:+0000
TZOFFSETTO:+0000
END:STANDARD
END:VTIMEZONE
BEGIN:VEVENT
UID:6-5
DTSTAMP:20260422T165140Z
SUMMARY:Obedience Trials
LOCATION:Washington County Agricultural Education Center 7313 Sharpsburg Pi
 ke  Boonsboro MD 21713
ORGANIZER;CN=Teresa Hawbaker:MAILTO:teresahawbaker@gmail.com
DTSTART;TZID=America/New_York;VALUE=DATE:20250322
DTEND;TZID=America/New_York;VALUE=DATE:20250324
X-ALT-DESC;FMTTYPE=TEXT/HTML:
CATEGORIES:General
URL;VALUE=URI:https://masondixonkennelclub.com/mc-events/obedience-trials/
METHOD:PUBLISH
END:VEVENT
END:VCALENDAR